BEGIN:VCALENDAR
VERSION:2.0
PRODID:-//Thunder Con - ECPv6.15.20//NONSGML v1.0//EN
CALSCALE:GREGORIAN
METHOD:PUBLISH
X-WR-CALNAME:Thunder Con
X-ORIGINAL-URL:https://thundercon.ca
X-WR-CALDESC:Events for Thunder Con
REFRESH-INTERVAL;VALUE=DURATION:PT1H
X-Robots-Tag:noindex
X-PUBLISHED-TTL:PT1H
BEGIN:VTIMEZONE
TZID:America/Toronto
BEGIN:DAYLIGHT
TZOFFSETFROM:-0500
TZOFFSETTO:-0400
TZNAME:EDT
DTSTART:20240310T070000
END:DAYLIGHT
BEGIN:STANDARD
TZOFFSETFROM:-0400
TZOFFSETTO:-0500
TZNAME:EST
DTSTART:20241103T060000
END:STANDARD
BEGIN:DAYLIGHT
TZOFFSETFROM:-0500
TZOFFSETTO:-0400
TZNAME:EDT
DTSTART:20250309T070000
END:DAYLIGHT
BEGIN:STANDARD
TZOFFSETFROM:-0400
TZOFFSETTO:-0500
TZNAME:EST
DTSTART:20251102T060000
END:STANDARD
BEGIN:DAYLIGHT
TZOFFSETFROM:-0500
TZOFFSETTO:-0400
TZNAME:EDT
DTSTART:20260308T070000
END:DAYLIGHT
BEGIN:STANDARD
TZOFFSETFROM:-0400
TZOFFSETTO:-0500
TZNAME:EST
DTSTART:20261101T060000
END:STANDARD
END:VTIMEZONE
BEGIN:VEVENT
DTSTART;TZID=America/Toronto:20251109T110000
DTEND;TZID=America/Toronto:20251109T180000
DTSTAMP:20260420T022010
CREATED:20251005T185420Z
LAST-MODIFIED:20251005T185927Z
UID:256205-1762686000-1762711200@thundercon.ca
SUMMARY:Winter Wizarding Market
DESCRIPTION:Join Gandalf and a fellowship of other wizards for Elven Ale and Dwarven Brew at our third Wizarding Winter Market\, Sunday Nov 9 from 11:00-6:00 at Sleeping Giant Brewing Co.! There will be vendors\, artists\, crafters and bakers on hand to help create a Magical Christmas Market vibe! Free to the public (silver collection at the door) and all ages welcome!
URL:https://thundercon.ca/event/winter-wizarding-market/
LOCATION:Sleeping Giant Brewing Co.\, 712 Macdonell St\, Thunder Bay\, Ontario\, P7B 4A6\, Canada
CATEGORIES:ThunderCon Event
ATTACH;FMTTYPE=image/jpeg:https://thundercon.ca/wp-content/uploads/2025/10/wwm-2025.jpg
ORGANIZER;CN="ThunderComicCon":MAILTO:info@thundercon.ca
END:VEVENT
END:VCALENDAR