BEGIN:VCALENDAR
VERSION:2.0
PRODID:-//Thunder Con - ECPv6.15.20//NONSGML v1.0//EN
CALSCALE:GREGORIAN
METHOD:PUBLISH
X-WR-CALNAME:Thunder Con
X-ORIGINAL-URL:https://thundercon.ca
X-WR-CALDESC:Events for Thunder Con
REFRESH-INTERVAL;VALUE=DURATION:PT1H
X-Robots-Tag:noindex
X-PUBLISHED-TTL:PT1H
BEGIN:VTIMEZONE
TZID:America/Toronto
BEGIN:DAYLIGHT
TZOFFSETFROM:-0500
TZOFFSETTO:-0400
TZNAME:EDT
DTSTART:20250309T070000
END:DAYLIGHT
BEGIN:STANDARD
TZOFFSETFROM:-0400
TZOFFSETTO:-0500
TZNAME:EST
DTSTART:20251102T060000
END:STANDARD
BEGIN:DAYLIGHT
TZOFFSETFROM:-0500
TZOFFSETTO:-0400
TZNAME:EDT
DTSTART:20260308T070000
END:DAYLIGHT
BEGIN:STANDARD
TZOFFSETFROM:-0400
TZOFFSETTO:-0500
TZNAME:EST
DTSTART:20261101T060000
END:STANDARD
BEGIN:DAYLIGHT
TZOFFSETFROM:-0500
TZOFFSETTO:-0400
TZNAME:EDT
DTSTART:20270314T070000
END:DAYLIGHT
BEGIN:STANDARD
TZOFFSETFROM:-0400
TZOFFSETTO:-0500
TZNAME:EST
DTSTART:20271107T060000
END:STANDARD
END:VTIMEZONE
BEGIN:VEVENT
DTSTART;TZID=America/Toronto:20260118T130000
DTEND;TZID=America/Toronto:20260118T160000
DTSTAMP:20260419T231426
CREATED:20251224T184413Z
LAST-MODIFIED:20251224T184413Z
UID:256483-1768741200-1768752000@thundercon.ca
SUMMARY:2026 ThunderCon Annual General Meeting
DESCRIPTION:Grab your calendars\, adventurers — it’s that time of year again! Our ThunderCon Annual General Meeting is coming up on Sunday\, January 18th at 1:00 PM\, and you’re officially invited to join us as we talk fandom\, future plans\, volunteer ops\, and maybe even drop a few hints about what legendary adventures await. \n📍 Location: Waverly Resource Library Auditorium (285 Red River Rd\, Thunder Bay\, ON P7B 1A9)\n📅 Date: Sunday\, January 18th\n🕐 Time: 1:00 PM \n🗳️ Voting Info:\nThose eligible to vote in our general elections will be contacted via email with more instructions closer to the meeting date. Keep an eye on your inbox\, heroes! \n🎮 Level Up! New Quest Awaits \nEver wondered what goes on behind the scenes to bring ThunderCon to life? Curious about the magic\, chaos\, and heroics that power our events? Or maybe you’ve been thinking about joining our Operations Team and helping shape the epic quests ahead? This is the perfect chance to jump in! \nSo\, power up your gear\, summon your enthusiasm\, and prepare to level up ThunderCon with us! 💥⚡️
URL:https://thundercon.ca/event/2026-thundercon-annual-general-meeting/
LOCATION:Waverly Resource Library\, 285 Red River Rd\, Thunder Bay\, Ontario\, P7B 1A9\, Canada
CATEGORIES:ThunderCon Event
ATTACH;FMTTYPE=image/png:https://thundercon.ca/wp-content/uploads/2025/12/Website-Annoucement-AGM.png
ORGANIZER;CN="ThunderComicCon":MAILTO:info@thundercon.ca
END:VEVENT
END:VCALENDAR