BEGIN:VCALENDAR
VERSION:2.0
PRODID:-//Thunder Con - ECPv6.15.20//NONSGML v1.0//EN
CALSCALE:GREGORIAN
METHOD:PUBLISH
X-WR-CALNAME:Thunder Con
X-ORIGINAL-URL:https://thundercon.ca
X-WR-CALDESC:Events for Thunder Con
REFRESH-INTERVAL;VALUE=DURATION:PT1H
X-Robots-Tag:noindex
X-PUBLISHED-TTL:PT1H
BEGIN:VTIMEZONE
TZID:America/Toronto
BEGIN:DAYLIGHT
TZOFFSETFROM:-0500
TZOFFSETTO:-0400
TZNAME:EDT
DTSTART:20240310T070000
END:DAYLIGHT
BEGIN:STANDARD
TZOFFSETFROM:-0400
TZOFFSETTO:-0500
TZNAME:EST
DTSTART:20241103T060000
END:STANDARD
BEGIN:DAYLIGHT
TZOFFSETFROM:-0500
TZOFFSETTO:-0400
TZNAME:EDT
DTSTART:20250309T070000
END:DAYLIGHT
BEGIN:STANDARD
TZOFFSETFROM:-0400
TZOFFSETTO:-0500
TZNAME:EST
DTSTART:20251102T060000
END:STANDARD
BEGIN:DAYLIGHT
TZOFFSETFROM:-0500
TZOFFSETTO:-0400
TZNAME:EDT
DTSTART:20260308T070000
END:DAYLIGHT
BEGIN:STANDARD
TZOFFSETFROM:-0400
TZOFFSETTO:-0500
TZNAME:EST
DTSTART:20261101T060000
END:STANDARD
END:VTIMEZONE
BEGIN:VEVENT
DTSTART;TZID=America/Toronto:20250920T100000
DTEND;TZID=America/Toronto:20250920T103000
DTSTAMP:20260420T195850
CREATED:20250827T182930Z
LAST-MODIFIED:20250910T034914Z
UID:255825-1758362400-1758364200@thundercon.ca
SUMMARY:Opening Ceremonies
DESCRIPTION:WELCOME TO THUNDERCON 2025! \nDescription: If you are the kind of person who wants to be involved from the moment the doors open to the very last minute before they close at the end\, then this is for you. Meet the Masters of Ceremonies and get an introduction to the Con\, great for first-timers\, or for those who have seen it every year.
URL:https://thundercon.ca/event/opening-ceremonies/
LOCATION:Multiverse Marketplace
CATEGORIES:Day 1,Multiverse Marketplace
ORGANIZER;CN="ThunderComicCon":MAILTO:info@thundercon.ca
END:VEVENT
END:VCALENDAR